BEGIN:VCALENDAR
VERSION:2.0
PRODID:-//Ecole de Musique de l&#039;Union de Vétroz - ECPv6.15.20//NONSGML v1.0//EN
CALSCALE:GREGORIAN
METHOD:PUBLISH
X-WR-CALNAME:Ecole de Musique de l&#039;Union de Vétroz
X-ORIGINAL-URL:https://emu.unionvetroz.ch
X-WR-CALDESC:Évènements pour Ecole de Musique de l&#039;Union de Vétroz
REFRESH-INTERVAL;VALUE=DURATION:PT1H
X-Robots-Tag:noindex
X-PUBLISHED-TTL:PT1H
BEGIN:VTIMEZONE
TZID:Europe/Zurich
BEGIN:DAYLIGHT
TZOFFSETFROM:+0100
TZOFFSETTO:+0200
TZNAME:CEST
DTSTART:20250330T010000
END:DAYLIGHT
BEGIN:STANDARD
TZOFFSETFROM:+0200
TZOFFSETTO:+0100
TZNAME:CET
DTSTART:20251026T010000
END:STANDARD
BEGIN:DAYLIGHT
TZOFFSETFROM:+0100
TZOFFSETTO:+0200
TZNAME:CEST
DTSTART:20260329T010000
END:DAYLIGHT
BEGIN:STANDARD
TZOFFSETFROM:+0200
TZOFFSETTO:+0100
TZNAME:CET
DTSTART:20261025T010000
END:STANDARD
BEGIN:DAYLIGHT
TZOFFSETFROM:+0100
TZOFFSETTO:+0200
TZNAME:CEST
DTSTART:20270328T010000
END:DAYLIGHT
BEGIN:STANDARD
TZOFFSETFROM:+0200
TZOFFSETTO:+0100
TZNAME:CET
DTSTART:20271031T010000
END:STANDARD
END:VTIMEZONE
BEGIN:VEVENT
DTSTART;TZID=Europe/Zurich:20260429T140000
DTEND;TZID=Europe/Zurich:20260429T173000
DTSTAMP:20260421T074639
CREATED:20260420T190452Z
LAST-MODIFIED:20260420T191332Z
UID:2736-1777471200-1777483800@emu.unionvetroz.ch
SUMMARY:Après-midi portes ouvertes !
DESCRIPTION:  \nLe mercredi 29 avril\, l’EMU organisera des portes ouvertes de 14h à 17h30 ! \n\n  \n\n\n\nLes visiteur-euse-s\, de tout âge\, pourront découvrir comment se passe un cours de musique\, les supports et contenus de cours\, les locaux et également essayer les instruments ! \n\n  \n\n\n\nNous nous réjouissons de vous rencontrer et de vous présenter notre école de musique !
URL:https://emu.unionvetroz.ch/evenement/apres-midi-portes-ouvertes/
LOCATION:Vétroz – Local de la Fanfare Union\, Chemin Sous-Maison 3\, Vétroz\, 1963\, Suisse
CATEGORIES:Cours,Initiation,Instrument,Solfège
ATTACH;FMTTYPE=image/jpeg:https://emu.unionvetroz.ch/wp-content/uploads/sites/2/2026/04/portes_ouvertes_EMU_2026-e1776711599168.jpg
END:VEVENT
END:VCALENDAR