BEGIN:VCALENDAR
VERSION:2.0
PRODID:-//Ecole de Musique de l&#039;Union de Vétroz - ECPv6.15.20//NONSGML v1.0//EN
CALSCALE:GREGORIAN
METHOD:PUBLISH
X-WR-CALNAME:Ecole de Musique de l&#039;Union de Vétroz
X-ORIGINAL-URL:https://emu.unionvetroz.ch
X-WR-CALDESC:Évènements pour Ecole de Musique de l&#039;Union de Vétroz
REFRESH-INTERVAL;VALUE=DURATION:PT1H
X-Robots-Tag:noindex
X-PUBLISHED-TTL:PT1H
BEGIN:VTIMEZONE
TZID:Europe/Zurich
BEGIN:DAYLIGHT
TZOFFSETFROM:+0100
TZOFFSETTO:+0200
TZNAME:CEST
DTSTART:20250330T010000
END:DAYLIGHT
BEGIN:STANDARD
TZOFFSETFROM:+0200
TZOFFSETTO:+0100
TZNAME:CET
DTSTART:20251026T010000
END:STANDARD
BEGIN:DAYLIGHT
TZOFFSETFROM:+0100
TZOFFSETTO:+0200
TZNAME:CEST
DTSTART:20260329T010000
END:DAYLIGHT
BEGIN:STANDARD
TZOFFSETFROM:+0200
TZOFFSETTO:+0100
TZNAME:CET
DTSTART:20261025T010000
END:STANDARD
BEGIN:DAYLIGHT
TZOFFSETFROM:+0100
TZOFFSETTO:+0200
TZNAME:CEST
DTSTART:20270328T010000
END:DAYLIGHT
BEGIN:STANDARD
TZOFFSETFROM:+0200
TZOFFSETTO:+0100
TZNAME:CET
DTSTART:20271031T010000
END:STANDARD
END:VTIMEZONE
BEGIN:VEVENT
DTSTART;VALUE=DATE:20260131
DTEND;VALUE=DATE:20260201
DTSTAMP:20260421T014846
CREATED:20250926T143450Z
LAST-MODIFIED:20250926T143450Z
UID:2466-1769817600-1769903999@emu.unionvetroz.ch
SUMMARY:22ème JSMC
DESCRIPTION:Les élèves de l’EMU participeront au 22ème Junior Slow Melody Contest qui se déroulera à Orsières le 31 janvier prochain \nLe Junior Slow Melody Contest est un concours pour jeunes solistes de cuivre et bois\, basé sur l’interprétation de mélodies lentes et particulièrement adapté pour les jeunes instrumentistes des écoles de musique. \nL’Union organisera le 24ème JSMC en février 2028 !
URL:https://emu.unionvetroz.ch/evenement/22eme-jsmc/
LOCATION:Orsières\, Rte des Ecoles 21\, Orsières\, 1937\, Switzerland
CATEGORIES:Concours,Instrument
ATTACH;FMTTYPE=image/jpeg:https://emu.unionvetroz.ch/wp-content/uploads/sites/2/2025/09/JSMC_2025_33-scaled-e1758898410960.jpg
END:VEVENT
END:VCALENDAR